BEGIN:VCALENDAR
VERSION:2.0
PRODID: -//Q4 Inc.//EN
METHOD:PUBLISH
BEGIN:VTIMEZONE
TZID:America/New_York
X-LIC-LOCATION:America/New_York
BEGIN:DAYLIGHT
TZOFFSETFROM:-0500
TZOFFSETTO:-0400
TZNAME:EDT
DTSTART:19700308T020000
RRULE:FREQ=YEARLY;BYMONTH=3;BYDAY=2SU
END:DAYLIGHT
BEGIN:STANDARD
TZOFFSETFROM:-0400
TZOFFSETTO:-0500
TZNAME:EST
DTSTART:19701101T020000
RRULE:FREQ=YEARLY;BYMONTH=11;BYDAY=1SU
END:STANDARD
END:VTIMEZONE
BEGIN:VEVENT
ORGANIZER:MAILTO:investor_relations@carmax.com
DTSTART;TZID="America/New_York":20220412T090000
DTEND;TZID="America/New_York":20220412T100000
LOCATION:
UID:6cad0fdf-2a72-4b8c-aa53-5cfcb925a1ef
DTSTAMP:20260424T203633
SUMMARY:CarMax Q4 FY22 Earnings Call
DESCRIPTION: View More Information: https://investors.carmax.com/news-and-events/events-and-presentations/event-details/2022/CarMax-Q4-FY22-Earnings-Call/default.aspx
URL;VALUE=URI:https://investors.carmax.com/news-and-events/events-and-presentations/event-details/2022/CarMax-Q4-FY22-Earnings-Call/default.aspx
PRIORITY:5
CLASS:PUBLIC
END:VEVENT
END:VCALENDAR
